BEGIN:VCALENDAR
VERSION:2.0
PRODID:icalendar-ruby
CALSCALE:GREGORIAN
METHOD:PUBLISH
BEGIN:VTIMEZONE
TZID:Australia/Melbourne
BEGIN:DAYLIGHT
DTSTART:20261004T030000
TZOFFSETFROM:+1000
TZOFFSETTO:+1100
RRULE:FREQ=YEARLY;BYDAY=1SU;BYMONTH=10
TZNAME:AEDT
END:DAYLIGHT
BEGIN:STANDARD
DTSTART:20260405T020000
TZOFFSETFROM:+1100
TZOFFSETTO:+1000
RRULE:FREQ=YEARLY;BYDAY=1SU;BYMONTH=4
TZNAME:AEST
END:STANDARD
END:VTIMEZONE
BEGIN:VEVENT
DTSTAMP:20260420T133140Z
UID:inspection_3004126
DTSTART;TZID=Australia/Melbourne:20260425T114500
DTEND;TZID=Australia/Melbourne:20260425T121500
CLASS:PUBLIC
CREATED:20260420T103539
DESCRIPTION: 
LAST-MODIFIED:20260420T103539
LOCATION:302 / 200 Toorak Road\, SOUTH YARRA VIC 3141\, Australia
SUMMARY:302 / 200 Toorak Road\,  Inspection
URL;VALUE=URI:meadowspropertygroup.com.au
END:VEVENT
END:VCALENDAR
